BEGIN:VCALENDAR
VERSION:2.0
PRODID:-//KCTraining - ECPv6.15.20//NONSGML v1.0//EN
CALSCALE:GREGORIAN
METHOD:PUBLISH
X-WR-CALNAME:KCTraining
X-ORIGINAL-URL:https://kctraining.org
X-WR-CALDESC:Events for KCTraining
REFRESH-INTERVAL;VALUE=DURATION:PT1H
X-Robots-Tag:noindex
X-PUBLISHED-TTL:PT1H
BEGIN:VTIMEZONE
TZID:America/New_York
BEGIN:DAYLIGHT
TZOFFSETFROM:-0500
TZOFFSETTO:-0400
TZNAME:EDT
DTSTART:20230312T070000
END:DAYLIGHT
BEGIN:STANDARD
TZOFFSETFROM:-0400
TZOFFSETTO:-0500
TZNAME:EST
DTSTART:20231105T060000
END:STANDARD
BEGIN:DAYLIGHT
TZOFFSETFROM:-0500
TZOFFSETTO:-0400
TZNAME:EDT
DTSTART:20240310T070000
END:DAYLIGHT
BEGIN:STANDARD
TZOFFSETFROM:-0400
TZOFFSETTO:-0500
TZNAME:EST
DTSTART:20241103T060000
END:STANDARD
BEGIN:DAYLIGHT
TZOFFSETFROM:-0500
TZOFFSETTO:-0400
TZNAME:EDT
DTSTART:20250309T070000
END:DAYLIGHT
BEGIN:STANDARD
TZOFFSETFROM:-0400
TZOFFSETTO:-0500
TZNAME:EST
DTSTART:20251102T060000
END:STANDARD
BEGIN:DAYLIGHT
TZOFFSETFROM:-0500
TZOFFSETTO:-0400
TZNAME:EDT
DTSTART:20260308T070000
END:DAYLIGHT
BEGIN:STANDARD
TZOFFSETFROM:-0400
TZOFFSETTO:-0500
TZNAME:EST
DTSTART:20261101T060000
END:STANDARD
BEGIN:DAYLIGHT
TZOFFSETFROM:-0500
TZOFFSETTO:-0400
TZNAME:EDT
DTSTART:20270314T070000
END:DAYLIGHT
BEGIN:STANDARD
TZOFFSETFROM:-0400
TZOFFSETTO:-0500
TZNAME:EST
DTSTART:20271107T060000
END:STANDARD
BEGIN:DAYLIGHT
TZOFFSETFROM:-0500
TZOFFSETTO:-0400
TZNAME:EDT
DTSTART:20280312T070000
END:DAYLIGHT
BEGIN:STANDARD
TZOFFSETFROM:-0400
TZOFFSETTO:-0500
TZNAME:EST
DTSTART:20281105T060000
END:STANDARD
END:VTIMEZONE
BEGIN:VTIMEZONE
TZID:America/Chicago
BEGIN:DAYLIGHT
TZOFFSETFROM:-0600
TZOFFSETTO:-0500
TZNAME:CDT
DTSTART:20240310T080000
END:DAYLIGHT
BEGIN:STANDARD
TZOFFSETFROM:-0500
TZOFFSETTO:-0600
TZNAME:CST
DTSTART:20241103T070000
END:STANDARD
BEGIN:DAYLIGHT
TZOFFSETFROM:-0600
TZOFFSETTO:-0500
TZNAME:CDT
DTSTART:20250309T080000
END:DAYLIGHT
BEGIN:STANDARD
TZOFFSETFROM:-0500
TZOFFSETTO:-0600
TZNAME:CST
DTSTART:20251102T070000
END:STANDARD
BEGIN:DAYLIGHT
TZOFFSETFROM:-0600
TZOFFSETTO:-0500
TZNAME:CDT
DTSTART:20260308T080000
END:DAYLIGHT
BEGIN:STANDARD
TZOFFSETFROM:-0500
TZOFFSETTO:-0600
TZNAME:CST
DTSTART:20261101T070000
END:STANDARD
BEGIN:DAYLIGHT
TZOFFSETFROM:-0600
TZOFFSETTO:-0500
TZNAME:CDT
DTSTART:20270314T080000
END:DAYLIGHT
BEGIN:STANDARD
TZOFFSETFROM:-0500
TZOFFSETTO:-0600
TZNAME:CST
DTSTART:20271107T070000
END:STANDARD
END:VTIMEZONE
BEGIN:VEVENT
DTSTART;VALUE=DATE:20241218
DTEND;VALUE=DATE:20270602
DTSTAMP:20260420T022543
CREATED:20241219T005016Z
LAST-MODIFIED:20250923T054202Z
UID:10000030-1734480000-1811894399@kctraining.org
SUMMARY:Free Group & Individual Supervision
DESCRIPTION:Free Group & Individual Supervision for BIPOC Mental Health Practitioners pursuing a licensure as an LICSW\, LMFT or LPCC. Participants will receive supervision from MN State Approved BIPOC Supervisors in their identified discipline.  \nSupported by MN Department of Human Services (DHS): CEMIG Grant \n*The program will last until June 2027 while space is available.
URL:https://kctraining.org/event/free-group-individual-supervision/
ATTACH;FMTTYPE=image/jpeg:https://kctraining.org/wp-content/uploads/2024/12/2025-16x9-KCTI-Supervision-Free.jpg
ORGANIZER;CN="Kente Circle Training Institute":MAILTO:kcti@kentecircle.com
END:VEVENT
BEGIN:VEVENT
DTSTART;TZID=America/Chicago:20251120T180000
DTEND;TZID=America/Chicago:20261119T193000
DTSTAMP:20260420T022543
CREATED:20251120T144538Z
LAST-MODIFIED:20251120T144709Z
UID:10000041-1763661600-1795116600@kctraining.org
SUMMARY:Supervision Huddle
DESCRIPTION: Time: 6:00 – 7:30 PM (Central) \n Location: Virtual via Zoom \n Join Here: https://kentecircle.zoom.us/j/6122431601 \nThis gathering is designed for BIPOC individuals who are fully licensed as LICSW\, LPCC\, and LMFT. Together\, we’ll create space for: \n\nCase consultations\nCommunity building\nNetworking and support
URL:https://kctraining.org/event/supervision-huddle/
ATTACH;FMTTYPE=image/png:https://kctraining.org/wp-content/uploads/2025/11/2025-16x9-KCTI-Supervision-Free.png
ORGANIZER;CN="Kente Circle Training Institute":MAILTO:kcti@kentecircle.com
END:VEVENT
BEGIN:VEVENT
DTSTART;TZID=America/New_York:20260420T130000
DTEND;TZID=America/New_York:20260420T161500
DTSTAMP:20260420T022543
CREATED:20260406T215548Z
LAST-MODIFIED:20260407T153333Z
UID:10000043-1776690000-1776701700@kctraining.org
SUMMARY:15 Hours of supervision continuing education credits 
DESCRIPTION:KCTI — Kente Circle Training Institute \n15 Hours of Supervision Continuing Education Credits \n\nPrerequisites: Graduate degree and licensed or working towards licensure in a mental health profession. We are approved through the MN Board of Behavioral Health to count towards the 45-hour requirement to become a clinical supervisor of Licensed Professional Clinical Counselors (LPCC). 15 CEUs Approved by MFT\, Psychology and Social Work Boards. \nCourse Instructors: \n\nMinkara Tezet\, Griot of Psychology and Psychiatry of the Cultural Wellness Center\nLarry G. Tucker\, M.S.\, LMFT\, AAMFT\, MN Approved MFT & LPCC Supervisor\n\nCourse (2026) Dates/Hours: \n\nApril 20th\, 1pm – 4:15pm\nApril 27th\, 1pm – 4:15pm\nMay 4th\, 1pm – 4:15pm\nMay 11th\, 1pm – 4:15pm\nMay 18th\, 1pm – 4:15pm\n\nCost: $225.00 \nScholarships for BIPOC clinicians seeking approved LPCC Supervisor status. \nAny Questions? LaCresha Payne — 612-281-3886 — lpayne@kentecircle.com \n 
URL:https://kctraining.org/event/15-hours-of-supervision-continuing-education-credits-042026/
ATTACH;FMTTYPE=image/png:https://kctraining.org/wp-content/uploads/2026/04/Apr-15-hours.png
END:VEVENT
END:VCALENDAR